BEGIN:VCALENDAR
VERSION:2.0
PRODID:-//Universidad de la Costa CUC - ECPv6.15.20//NONSGML v1.0//EN
CALSCALE:GREGORIAN
METHOD:PUBLISH
X-ORIGINAL-URL:https://www.cuc.edu.co
X-WR-CALDESC:Eventos para Universidad de la Costa CUC
REFRESH-INTERVAL;VALUE=DURATION:PT1H
X-Robots-Tag:noindex
X-PUBLISHED-TTL:PT1H
BEGIN:VTIMEZONE
TZID:America/New_York
BEGIN:DAYLIGHT
TZOFFSETFROM:-0500
TZOFFSETTO:-0400
TZNAME:EDT
DTSTART:20210314T070000
END:DAYLIGHT
BEGIN:STANDARD
TZOFFSETFROM:-0400
TZOFFSETTO:-0500
TZNAME:EST
DTSTART:20211107T060000
END:STANDARD
BEGIN:DAYLIGHT
TZOFFSETFROM:-0500
TZOFFSETTO:-0400
TZNAME:EDT
DTSTART:20220313T070000
END:DAYLIGHT
BEGIN:STANDARD
TZOFFSETFROM:-0400
TZOFFSETTO:-0500
TZNAME:EST
DTSTART:20221106T060000
END:STANDARD
BEGIN:DAYLIGHT
TZOFFSETFROM:-0500
TZOFFSETTO:-0400
TZNAME:EDT
DTSTART:20230312T070000
END:DAYLIGHT
BEGIN:STANDARD
TZOFFSETFROM:-0400
TZOFFSETTO:-0500
TZNAME:EST
DTSTART:20231105T060000
END:STANDARD
END:VTIMEZONE
BEGIN:VEVENT
DTSTART;TZID=America/New_York:20220714T150000
DTEND;TZID=America/New_York:20220714T150000
DTSTAMP:20260426T000452
CREATED:20220708T170521Z
LAST-MODIFIED:20220708T193425Z
UID:13915-1657810800-1657810800@www.cuc.edu.co
SUMMARY:Online Workshop: Cómo superar miedos y barreras en la búsqueda de empleo
DESCRIPTION:Estimado estudiante \n Con la cuarta revolución industrial\, muchas competencias han ido tomando mayor protagonismo en los procesos de inserción laboral. Conoce cómo superar miedos y barreras a la hora de encontrar empleo. \nParticipa en el Workshop Virtual Online ‘Cómo superar miedos y barreras en la búsqueda de empleo’ \nel próximo jueves 14 de julio desde las 03:00 p.m. a través de Teams. \nContaremos con el acompañamiento de Lisbeth Gómez\, actual líder de la Unidad de Desarrollo Profesional del departamento de Empleabilidad de la Universidad de la Costa; psicóloga y quien cuenta con más de 7 años de experiencia en el sector organizacional en multinacionales. \nNo te pierdas esta gran oportunidad de ser visible profesionalmente a gran escala. \nEsperamos contar con tu valiosa participación. \nSeguimos conectados\, estamos contigo.
URL:https://www.cuc.edu.co/evento/xix-encuentro-departamental-de-semilleros-de-investigacion-redcolsi-nodo-atlantico-2
CATEGORIES:Eventos Principales
ATTACH;FMTTYPE=image/png:https://www.cuc.edu.co/wp-content/uploads/2022/07/sol62c6fdcabfbe1.png
END:VEVENT
END:VCALENDAR