BEGIN:VCALENDAR
VERSION:2.0
PRODID:-//Universidad de la Costa CUC - ECPv6.15.20//NONSGML v1.0//EN
CALSCALE:GREGORIAN
METHOD:PUBLISH
X-ORIGINAL-URL:https://www.cuc.edu.co
X-WR-CALDESC:Eventos para Universidad de la Costa CUC
REFRESH-INTERVAL;VALUE=DURATION:PT1H
X-Robots-Tag:noindex
X-PUBLISHED-TTL:PT1H
BEGIN:VTIMEZONE
TZID:America/New_York
BEGIN:DAYLIGHT
TZOFFSETFROM:-0500
TZOFFSETTO:-0400
TZNAME:EDT
DTSTART:20210314T070000
END:DAYLIGHT
BEGIN:STANDARD
TZOFFSETFROM:-0400
TZOFFSETTO:-0500
TZNAME:EST
DTSTART:20211107T060000
END:STANDARD
BEGIN:DAYLIGHT
TZOFFSETFROM:-0500
TZOFFSETTO:-0400
TZNAME:EDT
DTSTART:20220313T070000
END:DAYLIGHT
BEGIN:STANDARD
TZOFFSETFROM:-0400
TZOFFSETTO:-0500
TZNAME:EST
DTSTART:20221106T060000
END:STANDARD
BEGIN:DAYLIGHT
TZOFFSETFROM:-0500
TZOFFSETTO:-0400
TZNAME:EDT
DTSTART:20230312T070000
END:DAYLIGHT
BEGIN:STANDARD
TZOFFSETFROM:-0400
TZOFFSETTO:-0500
TZNAME:EST
DTSTART:20231105T060000
END:STANDARD
END:VTIMEZONE
BEGIN:VEVENT
DTSTART;TZID=America/New_York:20220713T080000
DTEND;TZID=America/New_York:20220713T160000
DTSTAMP:20260426T000516
CREATED:20220712T152626Z
LAST-MODIFIED:20220712T152626Z
UID:14027-1657699200-1657728000@www.cuc.edu.co
SUMMARY:¡Salud a tu ofi!
DESCRIPTION:Desde la Vicerrectoría de Bienestar Universitario\, a través de la Coordinación de salud invitamos a los colaboradores a realizarse el examen de optometría con la Óptica Pracso. \nRecuerda que tu salud visual es muy importante y su revisión debe hacerse por lo menos una vez al año. \nTe esperamos de manera presencial este miércoles 13 de julio en el bloque 11 salón 307. \nCupos limitados. \nPara participar ingresa AQUÍ
URL:https://www.cuc.edu.co/evento/salud-a-tu-ofi
CATEGORIES:Eventos Principales
ATTACH;FMTTYPE=image/png:https://www.cuc.edu.co/wp-content/uploads/2022/07/sol62c84f9cac9ad.png
END:VEVENT
BEGIN:VEVENT
DTSTART;TZID=America/New_York:20220713T100000
DTEND;TZID=America/New_York:20220713T100000
DTSTAMP:20260426T000516
CREATED:20220705T224011Z
LAST-MODIFIED:20220705T224409Z
UID:13866-1657706400-1657706400@www.cuc.edu.co
SUMMARY:Conferencia Internacional: Innovación en turismo y proyección de ciudad.
DESCRIPTION:El departamento de Ciencias Empresariales te invita a participar de este evento\, el cual se realizará el próximo 13 de julio a las 10:00 a.m. en el Laboratorio de Creatividad de la Universidad de la Costa\, bloque 12 piso 5. \nEl evento contará con la conferencista internacional\, EVA MARIA SÁNCHEZ\, Doctora en Administración y Dirección de Empresas por la Universidad de Málaga. El objetivo de este espacio es compartir experiencias bajo la temática de ciudades inteligentes y turismo sostenible. Los interesados en participar deben diligenciar su inscripción en el siguiente LINK. \nIngreso a la Master Class CLICK AQUÍ
URL:https://www.cuc.edu.co/evento/conferencia-internacional-innovacion-en-turismo-y-proyeccion-de-ciudad
CATEGORIES:Eventos Principales
ATTACH;FMTTYPE=image/png:https://www.cuc.edu.co/wp-content/uploads/2022/07/sol62c088475eabf-1.png
END:VEVENT
END:VCALENDAR