BEGIN:VCALENDAR
VERSION:2.0
PRODID:-//Universidad de la Costa CUC - ECPv6.15.20//NONSGML v1.0//EN
CALSCALE:GREGORIAN
METHOD:PUBLISH
X-ORIGINAL-URL:https://www.cuc.edu.co
X-WR-CALDESC:Eventos para Universidad de la Costa CUC
REFRESH-INTERVAL;VALUE=DURATION:PT1H
X-Robots-Tag:noindex
X-PUBLISHED-TTL:PT1H
BEGIN:VTIMEZONE
TZID:America/New_York
BEGIN:DAYLIGHT
TZOFFSETFROM:-0500
TZOFFSETTO:-0400
TZNAME:EDT
DTSTART:20210314T070000
END:DAYLIGHT
BEGIN:STANDARD
TZOFFSETFROM:-0400
TZOFFSETTO:-0500
TZNAME:EST
DTSTART:20211107T060000
END:STANDARD
BEGIN:DAYLIGHT
TZOFFSETFROM:-0500
TZOFFSETTO:-0400
TZNAME:EDT
DTSTART:20220313T070000
END:DAYLIGHT
BEGIN:STANDARD
TZOFFSETFROM:-0400
TZOFFSETTO:-0500
TZNAME:EST
DTSTART:20221106T060000
END:STANDARD
BEGIN:DAYLIGHT
TZOFFSETFROM:-0500
TZOFFSETTO:-0400
TZNAME:EDT
DTSTART:20230312T070000
END:DAYLIGHT
BEGIN:STANDARD
TZOFFSETFROM:-0400
TZOFFSETTO:-0500
TZNAME:EST
DTSTART:20231105T060000
END:STANDARD
END:VTIMEZONE
BEGIN:VEVENT
DTSTART;TZID=America/New_York:20220616T080000
DTEND;TZID=America/New_York:20220629T180000
DTSTAMP:20260426T000457
CREATED:20220616T223624Z
LAST-MODIFIED:20220616T223624Z
UID:13777-1655366400-1656525600@www.cuc.edu.co
SUMMARY:Curso de formulación y estructuración de proyectos CTeI para Regalías
DESCRIPTION:El Departamento de proyectos y la Vicerrectoría de Ciencia\, Tecnología e Innovación de la Universidad de la Costa tienen el gusto de invitarlo a inscribirse en el Curso de formulación y estructuración de proyectos CTeI para regalías\, el cual se llevará a cabo de manera remota en tres (3) sesiones a través de la plataforma Microsoft Teams los días 16\, 22 y 29 de junio del presente año. Cada sesión cuenta con una duración de 8 horas en los horarios de 8:00 a.m. a 12:00 p.m. y de 2:00 p.m. a 6:00 p.m. \nEste curso tiene como objetivo desarrollar en los investigadores capacidades en la formulación y estructuración de los proyectos de Ciencia\, Tecnología e Innovación susceptibles a ser financiados con recursos para la Asignación para la Ciencia\, Tecnología e Innovación\, en el marco de las convocatorias públicas\, abiertas y competitivas. \nEsta capacitación será dictada por el Ing. Mario Andrés Sánchez Rubio\, Jefe de la Oficina de Investigación de la Universidad de Córdoba con experiencia en formulación\, estructuración\, evaluación y seguimiento de proyectos de inversión pública\, con sólidos conocimientos en el Sistema General de Regalías. Desempeñó la labor como Coordinador de Fondo de Ciencia\, Tecnología e Innovación en el Departamento Nacional de Planeación (DNP) y como Profesional de apoyo a la oficina asesora de Planeación de MinCiencias. \nLos participantes que asistan a las tres (3) sesiones recibirán una certificación del curso. No pierdas esta gran oportunidad e inscríbete en el curso ingresando a este enlace. Los cupos serán limitados\, quienes sean seleccionados recibirán el link de acceso a las sesiones del curso. \nOrganiza\nDepartamento de proyectos\nVicerrectoría de Ciencia\, Tecnología e Innovación\nMayores informes: sdelahoz2@cuc.edu.co
URL:https://www.cuc.edu.co/evento/curso-de-formulacion-y-estructuracion-de-proyectos-ctei-para-regalias
CATEGORIES:Eventos Principales
ATTACH;FMTTYPE=image/png:https://www.cuc.edu.co/wp-content/uploads/2022/06/MicrosoftTeams-image-1.png
END:VEVENT
END:VCALENDAR